BEGIN:VCALENDAR
VERSION:2.0
PRODID:concerti//https://www.concerti.de
CALSCALE:GREGORIAN
BEGIN:VTIMEZONE
TZID:Europe/Berlin
X-LIC-LOCATION:Europe/Berlin
BEGIN:DAYLIGHT
TZOFFSETFROM:+0100
TZOFFSETTO:+0200
TZNAME:CEST
DTSTART:19700329T020000
RRULE:FREQ=YEARLY;BYMONTH=3;BYDAY=-1SU
END:DAYLIGHT
BEGIN:STANDARD
TZOFFSETFROM:+0200
TZOFFSETTO:+0100
TZNAME:CET
DTSTART:19701025T030000
RRULE:FREQ=YEARLY;BYMONTH=10;BYDAY=-1SU
END:STANDARD
END:VTIMEZONE
BEGIN:VEVENT
UID:e59dfa61d71935b4979cf35003cfd7b2
SUMMARY:Gülru Ensari (Klavier) - Schumannfest Düsseldorf
URL:https://www.concerti.de/termine/guelru-ensari-klavier-tonhalle-duesseldorf-895194/
DTSTART;TZID=Europe/Berlin:20260613T160000
DTEND;TZID=Europe/Berlin:20260613T180000
DESCRIPTION:Interpreten: Gülru Ensari (Klavier) \nProgramm: Werke von R. Schumann\, C. Schumann\, Brahms\, Schubert\, Cage & Say \nhttps://www.concerti.de/termine/guelru-ensari-klavier-tonhalle-duesseldorf-895194/
LOCATION:Tonhalle Düsseldorf\, Ehrenhof 1\, 40479 Düsseldorf
END:VEVENT
END:VCALENDAR