BEGIN:VCALENDAR
VERSION:2.0
PRODID:concerti//https://www.concerti.de
CALSCALE:GREGORIAN
BEGIN:VTIMEZONE
TZID:Europe/Berlin
X-LIC-LOCATION:Europe/Berlin
BEGIN:DAYLIGHT
TZOFFSETFROM:+0100
TZOFFSETTO:+0200
TZNAME:CEST
DTSTART:19700329T020000
RRULE:FREQ=YEARLY;BYMONTH=3;BYDAY=-1SU
END:DAYLIGHT
BEGIN:STANDARD
TZOFFSETFROM:+0200
TZOFFSETTO:+0100
TZNAME:CET
DTSTART:19701025T030000
RRULE:FREQ=YEARLY;BYMONTH=10;BYDAY=-1SU
END:STANDARD
END:VTIMEZONE
BEGIN:VEVENT
UID:215e10a3cbf1ba3b415791b1f4b820f9
SUMMARY:Eleanor Grant (Gesang &amp; Kontrabass), Gus McQuade (Gitarre) - Schumannfest Düsseldorf
URL:https://www.concerti.de/termine/eleanor-grant-gesang-kontrabass-gus-mcquade-gitarre-895200/
DTSTART;TZID=Europe/Berlin:20260614T190000
DTEND;TZID=Europe/Berlin:20260614T210000
DESCRIPTION:Interpreten: Eleanor Grant (Gesang & Kontrabass)\, Gus McQuade (Gitarre) \nProgramm: Werke von Britten\, Dowland u. a. \nhttps://www.concerti.de/termine/eleanor-grant-gesang-kontrabass-gus-mcquade-gitarre-895200/
LOCATION:Jazz-Schmiede\, Düsseldorf
END:VEVENT
END:VCALENDAR