BEGIN:VCALENDAR
VERSION:2.0
PRODID:concerti//https://www.concerti.de
CALSCALE:GREGORIAN
BEGIN:VTIMEZONE
TZID:Europe/Berlin
X-LIC-LOCATION:Europe/Berlin
BEGIN:DAYLIGHT
TZOFFSETFROM:+0100
TZOFFSETTO:+0200
TZNAME:CEST
DTSTART:19700329T020000
RRULE:FREQ=YEARLY;BYMONTH=3;BYDAY=-1SU
END:DAYLIGHT
BEGIN:STANDARD
TZOFFSETFROM:+0200
TZOFFSETTO:+0100
TZNAME:CET
DTSTART:19701025T030000
RRULE:FREQ=YEARLY;BYMONTH=10;BYDAY=-1SU
END:STANDARD
END:VTIMEZONE
BEGIN:VEVENT
UID:eb9a64104f1cc21ac75a361fff40b34b
SUMMARY:Heike-Angela Moser (Hammerflügel) - Schumannfest Düsseldorf
URL:https://www.concerti.de/termine/heike-angela-moser-hammerfluegel-895203/
DTSTART;TZID=Europe/Berlin:20260615T190000
DTEND;TZID=Europe/Berlin:20260615T210000
DESCRIPTION:Interpreten: Heike-Angela Moser (Hammerflügel) \nProgramm: Werke von Galuppi\, Schubert\, Brahms\, Hensel u. a. \nhttps://www.concerti.de/termine/heike-angela-moser-hammerfluegel-895203/
LOCATION:Palais Wittgenstein\, Düsseldorf
END:VEVENT
END:VCALENDAR