BEGIN:VCALENDAR
VERSION:2.0
PRODID:concerti//https://www.concerti.de
CALSCALE:GREGORIAN
BEGIN:VTIMEZONE
TZID:Europe/Berlin
X-LIC-LOCATION:Europe/Berlin
BEGIN:DAYLIGHT
TZOFFSETFROM:+0100
TZOFFSETTO:+0200
TZNAME:CEST
DTSTART:19700329T020000
RRULE:FREQ=YEARLY;BYMONTH=3;BYDAY=-1SU
END:DAYLIGHT
BEGIN:STANDARD
TZOFFSETFROM:+0200
TZOFFSETTO:+0100
TZNAME:CET
DTSTART:19701025T030000
RRULE:FREQ=YEARLY;BYMONTH=10;BYDAY=-1SU
END:STANDARD
END:VTIMEZONE
BEGIN:VEVENT
UID:ba21d4f59cd222e897c89437df037c26
SUMMARY:Morgenstern Trio - Schumannfest Düsseldorf
URL:https://www.concerti.de/termine/morgenstern-trio-895206/
DTSTART;TZID=Europe/Berlin:20260616T190000
DTEND;TZID=Europe/Berlin:20260616T210000
DESCRIPTION:Interpreten: Morgenstern Trio \nProgramm: Mozart: Klaviertrio B-Dur KV 254\, Jalbert: Jupiter Eternal\, Holst: Jupiter aus „Die Planeten“\, Schumann: Klavietrio Nr. 2 F-Dur op. 80 \nhttps://www.concerti.de/termine/morgenstern-trio-895206/
LOCATION:Palais Wittgenstein\, Düsseldorf
END:VEVENT
END:VCALENDAR