BEGIN:VCALENDAR
VERSION:2.0
PRODID:concerti//https://www.concerti.de
CALSCALE:GREGORIAN
BEGIN:VTIMEZONE
TZID:Europe/Berlin
X-LIC-LOCATION:Europe/Berlin
BEGIN:DAYLIGHT
TZOFFSETFROM:+0100
TZOFFSETTO:+0200
TZNAME:CEST
DTSTART:19700329T020000
RRULE:FREQ=YEARLY;BYMONTH=3;BYDAY=-1SU
END:DAYLIGHT
BEGIN:STANDARD
TZOFFSETFROM:+0200
TZOFFSETTO:+0100
TZNAME:CET
DTSTART:19701025T030000
RRULE:FREQ=YEARLY;BYMONTH=10;BYDAY=-1SU
END:STANDARD
END:VTIMEZONE
BEGIN:VEVENT
UID:8363e665dcdae11415eb030f1ddeb077
SUMMARY:Magdalene Ho (Klavier) - Schumannfest Düsseldorf
URL:https://www.concerti.de/termine/magdalene-ho-klavier-895209/
DTSTART;TZID=Europe/Berlin:20260617T190000
DTEND;TZID=Europe/Berlin:20260617T210000
DESCRIPTION:Interpreten: Magdalene Ho (Klavier) \nProgramm: J. S. Bach: Fantasia und Fuge a-Moll BWV 904\, Schumann: Fugue op. 72/1 & Humoreske B-Dur op. 20\, Beethoven: Klaviersonate D-Dur op. 10/3\, Skrajabin: Klaviersonate Nr. 7 op. 64\, Chin: Étude „Weisse Messe“ \nhttps://www.concerti.de/termine/magdalene-ho-klavier-895209/
LOCATION:Palais Wittgenstein\, Düsseldorf
END:VEVENT
END:VCALENDAR