BEGIN:VCALENDAR
VERSION:2.0
PRODID:concerti//https://www.concerti.de
CALSCALE:GREGORIAN
BEGIN:VTIMEZONE
TZID:Europe/Berlin
X-LIC-LOCATION:Europe/Berlin
BEGIN:DAYLIGHT
TZOFFSETFROM:+0100
TZOFFSETTO:+0200
TZNAME:CEST
DTSTART:19700329T020000
RRULE:FREQ=YEARLY;BYMONTH=3;BYDAY=-1SU
END:DAYLIGHT
BEGIN:STANDARD
TZOFFSETFROM:+0200
TZOFFSETTO:+0100
TZNAME:CET
DTSTART:19701025T030000
RRULE:FREQ=YEARLY;BYMONTH=10;BYDAY=-1SU
END:STANDARD
END:VTIMEZONE
BEGIN:VEVENT
UID:f911a2aa718b8a7a46de211d5dc8790d
SUMMARY:Calmus Ensemble - Schumannfest Düsseldorf
URL:https://www.concerti.de/termine/calmus-ensemble-895212/
DTSTART;TZID=Europe/Berlin:20260618T190000
DTEND;TZID=Europe/Berlin:20260618T210000
DESCRIPTION:Interpreten: Calmus Ensemble \nProgramm: Werke von R. Schumann\, C. Schumann\, Brahms u. a. \nhttps://www.concerti.de/termine/calmus-ensemble-895212/
LOCATION:Neanderkirche\, Düsseldorf
END:VEVENT
END:VCALENDAR