BEGIN:VCALENDAR
VERSION:2.0
PRODID:concerti//https://www.concerti.de
CALSCALE:GREGORIAN
BEGIN:VTIMEZONE
TZID:Europe/Berlin
X-LIC-LOCATION:Europe/Berlin
BEGIN:DAYLIGHT
TZOFFSETFROM:+0100
TZOFFSETTO:+0200
TZNAME:CEST
DTSTART:19700329T020000
RRULE:FREQ=YEARLY;BYMONTH=3;BYDAY=-1SU
END:DAYLIGHT
BEGIN:STANDARD
TZOFFSETFROM:+0200
TZOFFSETTO:+0100
TZNAME:CET
DTSTART:19701025T030000
RRULE:FREQ=YEARLY;BYMONTH=10;BYDAY=-1SU
END:STANDARD
END:VTIMEZONE
BEGIN:VEVENT
UID:581853d8d2d9d94b959858b75ac69f6b
SUMMARY:Valerie Eickhoff (Mezzosopran), Julian Prégardien (Tenor), Ricardo Marinello (Tenor), Anna Gebhardt (Klavier), Elenora Pertz (Klavier), The Erlkings - Schumannfest Düsseldorf
URL:https://www.concerti.de/termine/valerie-eickhoff-mezzosopran-julian-pregardien-tenor-ricardo-marinello-tenor-anna-gebhardt-klavier-elenora-pertz-klavier-the-erlkings-tonhalle-duesseldorf-895221/
DTSTART;TZID=Europe/Berlin:20260621T180000
DTEND;TZID=Europe/Berlin:20260621T200000
DESCRIPTION:Interpreten: Valerie Eickhoff (Mezzosopran)\, Julian Prégardien (Tenor)\, Ricardo Marinello (Tenor)\, Anna Gebhardt (Klavier)\, Elenora Pertz (Klavier)\, The Erlkings \nhttps://www.concerti.de/termine/valerie-eickhoff-mezzosopran-julian-pregardien-tenor-ricardo-marinello-tenor-anna-gebhardt-klavier-elenora-pertz-klavier-the-erlkings-tonhalle-duesseldorf-895221/
LOCATION:Tonhalle Düsseldorf\, Ehrenhof 1\, 40479 Düsseldorf
END:VEVENT
END:VCALENDAR