BEGIN:VCALENDAR
VERSION:2.0
PRODID:concerti//https://www.concerti.de
CALSCALE:GREGORIAN
BEGIN:VTIMEZONE
TZID:Europe/Berlin
X-LIC-LOCATION:Europe/Berlin
BEGIN:DAYLIGHT
TZOFFSETFROM:+0100
TZOFFSETTO:+0200
TZNAME:CEST
DTSTART:19700329T020000
RRULE:FREQ=YEARLY;BYMONTH=3;BYDAY=-1SU
END:DAYLIGHT
BEGIN:STANDARD
TZOFFSETFROM:+0200
TZOFFSETTO:+0100
TZNAME:CET
DTSTART:19701025T030000
RRULE:FREQ=YEARLY;BYMONTH=10;BYDAY=-1SU
END:STANDARD
END:VTIMEZONE
BEGIN:VEVENT
UID:e7153baf4060cc2efd698699851a9a24
SUMMARY:Motus Quartett - Schumannfest Düsseldorf
URL:https://www.concerti.de/termine/motus-quartett-895224/
DTSTART;TZID=Europe/Berlin:20260622T190000
DTEND;TZID=Europe/Berlin:20260622T210000
DESCRIPTION:Interpreten: Motus Quartett \nProgramm: Haydn: Streichquartett Nr. 74 g-Moll\, Janácek: Streichquartett Nr. 2\, Schubert: Quartettsatz c-Moll D 703\, Schumann: Streichquartett a-Moll op. 41/1 \nhttps://www.concerti.de/termine/motus-quartett-895224/
LOCATION:Palais Wittgenstein\, Düsseldorf
END:VEVENT
END:VCALENDAR