BEGIN:VCALENDAR
VERSION:2.0
PRODID:concerti//https://www.concerti.de
CALSCALE:GREGORIAN
BEGIN:VTIMEZONE
TZID:Europe/Berlin
X-LIC-LOCATION:Europe/Berlin
BEGIN:DAYLIGHT
TZOFFSETFROM:+0100
TZOFFSETTO:+0200
TZNAME:CEST
DTSTART:19700329T020000
RRULE:FREQ=YEARLY;BYMONTH=3;BYDAY=-1SU
END:DAYLIGHT
BEGIN:STANDARD
TZOFFSETFROM:+0200
TZOFFSETTO:+0100
TZNAME:CET
DTSTART:19701025T030000
RRULE:FREQ=YEARLY;BYMONTH=10;BYDAY=-1SU
END:STANDARD
END:VTIMEZONE
BEGIN:VEVENT
UID:76e9010b4527fe1fe8d79d65e185196e
SUMMARY:Benjamin Schmid (Violine), Hiyu He (Violine &amp; Viola), Quirine Viersen (Violoncello), Ariane Haering (Klavier) - Schumannfest Düsseldorf
URL:https://www.concerti.de/termine/benjamin-schmid-violine-hiyu-he-violine-viola-quirine-viersen-violoncello-ariane-haering-klavier-deutsche-oper-am-rhein-opernhaus-duesseldorf-895227/
DTSTART;TZID=Europe/Berlin:20260623T200000
DTEND;TZID=Europe/Berlin:20260623T220000
DESCRIPTION:Interpreten: Benjamin Schmid (Violine)\, Hiyu He (Violine & Viola)\, Quirine Viersen (Violoncello)\, Ariane Haering (Klavier)\, Benjamin Schmid (Violine) \nProgramm: Korngold: Suite op. 23\, Mahler: Klavierquartett a-Moll \nhttps://www.concerti.de/termine/benjamin-schmid-violine-hiyu-he-violine-viola-quirine-viersen-violoncello-ariane-haering-klavier-deutsche-oper-am-rhein-opernhaus-duesseldorf-895227/
LOCATION:Opernhaus Düsseldorf - Deutsche Oper am Rhein\, Heinrich-Heine-Allee 16 a\, 40213 Düsseldorf
END:VEVENT
END:VCALENDAR