BEGIN:VCALENDAR
VERSION:2.0
PRODID:concerti//https://www.concerti.de
CALSCALE:GREGORIAN
BEGIN:VTIMEZONE
TZID:Europe/Berlin
X-LIC-LOCATION:Europe/Berlin
BEGIN:DAYLIGHT
TZOFFSETFROM:+0100
TZOFFSETTO:+0200
TZNAME:CEST
DTSTART:19700329T020000
RRULE:FREQ=YEARLY;BYMONTH=3;BYDAY=-1SU
END:DAYLIGHT
BEGIN:STANDARD
TZOFFSETFROM:+0200
TZOFFSETTO:+0100
TZNAME:CET
DTSTART:19701025T030000
RRULE:FREQ=YEARLY;BYMONTH=10;BYDAY=-1SU
END:STANDARD
END:VTIMEZONE
BEGIN:VEVENT
UID:fe1667b2555cd93ab60c44b0f1919ede
SUMMARY:Benjamin Schmid (Violine), Ariane Haering (Klavier) - Schumannfest Düsseldorf
URL:https://www.concerti.de/termine/benjamin-schmid-violine-ariane-haering-klavier-895230/
DTSTART;TZID=Europe/Berlin:20260624T200000
DTEND;TZID=Europe/Berlin:20260624T220000
DESCRIPTION:Interpreten: Benjamin Schmid (Violine)\, Ariane Haering (Klavier) \nProgramm: Kreutzer/Schmid: Etüde Nr. 14\, Beethoven: Violinsonate A-Dur op. 47\, Paganini/Schumann: Caprice Nr. 21\, Schumann: Violinsonate Nr. 2 d-Moll op. 121 \nhttps://www.concerti.de/termine/benjamin-schmid-violine-ariane-haering-klavier-895230/
LOCATION:McKinsey & Company\, Düsseldorf
END:VEVENT
END:VCALENDAR