BEGIN:VCALENDAR
VERSION:2.0
PRODID:concerti//https://www.concerti.de
CALSCALE:GREGORIAN
BEGIN:VTIMEZONE
TZID:Europe/Berlin
X-LIC-LOCATION:Europe/Berlin
BEGIN:DAYLIGHT
TZOFFSETFROM:+0100
TZOFFSETTO:+0200
TZNAME:CEST
DTSTART:19700329T020000
RRULE:FREQ=YEARLY;BYMONTH=3;BYDAY=-1SU
END:DAYLIGHT
BEGIN:STANDARD
TZOFFSETFROM:+0200
TZOFFSETTO:+0100
TZNAME:CET
DTSTART:19701025T030000
RRULE:FREQ=YEARLY;BYMONTH=10;BYDAY=-1SU
END:STANDARD
END:VTIMEZONE
BEGIN:VEVENT
UID:0c481234d48b2036a173465b3991aadc
SUMMARY:Benjamin Schmid (Violine), Hiyu He (Violine &amp; Viola), Quirine Viersen (Violoncello), Ariane Haering (Klavier) - Schumannfest Düsseldorf
URL:https://www.concerti.de/termine/benjamin-schmid-violine-hiyu-he-violine-viola-quirine-viersen-violoncello-ariane-haering-klavier-deutsche-oper-am-rhein-opernhaus-duesseldorf-895227/
DTSTART;TZID=Europe/Berlin:20260625T200000
DTEND;TZID=Europe/Berlin:20260625T220000
DESCRIPTION:Interpreten: Benjamin Schmid (Violine)\, Hiyu He (Violine & Viola)\, Quirine Viersen (Violoncello)\, Ariane Haering (Klavier)\, Benjamin Schmid (Violine) \nProgramm: J. S. Bach: Partita Nr. 3 E-Dur BWV 1006\, Ysaye: Violinsonate Nr. 2 a-Moll op. 27/2 & Sonate-Ballade op. 27/3\, J. S. Bach/Schmid: Elektronische Variationen über die Partita d-Moll BWV 1004 \nhttps://www.concerti.de/termine/benjamin-schmid-violine-hiyu-he-violine-viola-quirine-viersen-violoncello-ariane-haering-klavier-deutsche-oper-am-rhein-opernhaus-duesseldorf-895227/
LOCATION:Pandion Officehome\, Düsseldorf
END:VEVENT
END:VCALENDAR