BEGIN:VCALENDAR
VERSION:2.0
PRODID:concerti//https://www.concerti.de
CALSCALE:GREGORIAN
BEGIN:VTIMEZONE
TZID:Europe/Berlin
X-LIC-LOCATION:Europe/Berlin
BEGIN:DAYLIGHT
TZOFFSETFROM:+0100
TZOFFSETTO:+0200
TZNAME:CEST
DTSTART:19700329T020000
RRULE:FREQ=YEARLY;BYMONTH=3;BYDAY=-1SU
END:DAYLIGHT
BEGIN:STANDARD
TZOFFSETFROM:+0200
TZOFFSETTO:+0100
TZNAME:CET
DTSTART:19701025T030000
RRULE:FREQ=YEARLY;BYMONTH=10;BYDAY=-1SU
END:STANDARD
END:VTIMEZONE
BEGIN:VEVENT
UID:d63e6e3ffc51edc33ef683c68f53a943
SUMMARY:Manouche and more - Schumannfest Düsseldorf
URL:https://www.concerti.de/termine/manouche-and-more-895236/
DTSTART;TZID=Europe/Berlin:20260626T200000
DTEND;TZID=Europe/Berlin:20260626T220000
DESCRIPTION:Interpreten: Benjamin Schmid (Violine)\, Diknu Schneeberger (Gitarre)\, Julian Wohlmuth (Gitarre)\, Martin Heinzle (Bass) \nhttps://www.concerti.de/termine/manouche-and-more-895236/
LOCATION:Fourty Four\, Düsseldorf
END:VEVENT
END:VCALENDAR