BEGIN:VCALENDAR
VERSION:2.0
PRODID:concerti//https://www.concerti.de
CALSCALE:GREGORIAN
BEGIN:VTIMEZONE
TZID:Europe/Berlin
X-LIC-LOCATION:Europe/Berlin
BEGIN:DAYLIGHT
TZOFFSETFROM:+0100
TZOFFSETTO:+0200
TZNAME:CEST
DTSTART:19700329T020000
RRULE:FREQ=YEARLY;BYMONTH=3;BYDAY=-1SU
END:DAYLIGHT
BEGIN:STANDARD
TZOFFSETFROM:+0200
TZOFFSETTO:+0100
TZNAME:CET
DTSTART:19701025T030000
RRULE:FREQ=YEARLY;BYMONTH=10;BYDAY=-1SU
END:STANDARD
END:VTIMEZONE
BEGIN:VEVENT
UID:9db30cbf79302d7fcb36319bee8b41db
SUMMARY:Donizetti: Adina und Nemorino oder der Liebestrank
URL:https://www.concerti.de/termine/donizetti-adina-und-nemorino-oder-der-liebestrank-theaterfabrik-blaue-halle-wuerzburg-895485/
DTSTART;TZID=Europe/Berlin:20260620T150000
DTEND;TZID=Europe/Berlin:20260620T170000
DESCRIPTION:Interpreten: Nick Lieberknecht (Regie) \nhttps://www.concerti.de/termine/donizetti-adina-und-nemorino-oder-der-liebestrank-theaterfabrik-blaue-halle-wuerzburg-895485/
LOCATION:Theaterfabrik Blaue Halle Würzburg\, Alfred-Nobel-Straße 33\, 97080 Würzburg
END:VEVENT
END:VCALENDAR