BEGIN:VCALENDAR
VERSION:2.0
PRODID:concerti//https://www.concerti.de
CALSCALE:GREGORIAN
BEGIN:VTIMEZONE
TZID:Europe/Berlin
X-LIC-LOCATION:Europe/Berlin
BEGIN:DAYLIGHT
TZOFFSETFROM:+0100
TZOFFSETTO:+0200
TZNAME:CEST
DTSTART:19700329T020000
RRULE:FREQ=YEARLY;BYMONTH=3;BYDAY=-1SU
END:DAYLIGHT
BEGIN:STANDARD
TZOFFSETFROM:+0200
TZOFFSETTO:+0100
TZNAME:CET
DTSTART:19701025T030000
RRULE:FREQ=YEARLY;BYMONTH=10;BYDAY=-1SU
END:STANDARD
END:VTIMEZONE
BEGIN:VEVENT
UID:f9dea03be544474a72fb019358ab602e
SUMMARY:Jessica Kuhn (Violoncello), Nino Gurevich (Klavier)
URL:https://www.concerti.de/termine/jessica-kuhn-violoncello-nino-gurevich-klavier-staatsbad-bad-brueckenau-895506/
DTSTART;TZID=Europe/Berlin:20260614T193000
DTEND;TZID=Europe/Berlin:20260614T213000
DESCRIPTION:Interpreten: Jessica Kuhn (Violoncello)\, Nino Gurevich (Klavier) \nProgramm: Chopin: Cellosonate g-Moll op. 65\, Spring: Telemann-Variationen op. 82\, Saint-Saëns: Cellosonate Nr. 2 F-Dur op. 123 \nhttps://www.concerti.de/termine/jessica-kuhn-violoncello-nino-gurevich-klavier-staatsbad-bad-brueckenau-895506/
LOCATION:Staatsbad Bad Brückenau\, Heinrich-von-Bibra-Straße 25\, 97769 Bad Brückenau
END:VEVENT
END:VCALENDAR