BEGIN:VCALENDAR
VERSION:2.0
PRODID:concerti//https://www.concerti.de
CALSCALE:GREGORIAN
BEGIN:VTIMEZONE
TZID:Europe/Berlin
X-LIC-LOCATION:Europe/Berlin
BEGIN:DAYLIGHT
TZOFFSETFROM:+0100
TZOFFSETTO:+0200
TZNAME:CEST
DTSTART:19700329T020000
RRULE:FREQ=YEARLY;BYMONTH=3;BYDAY=-1SU
END:DAYLIGHT
BEGIN:STANDARD
TZOFFSETFROM:+0200
TZOFFSETTO:+0100
TZNAME:CET
DTSTART:19701025T030000
RRULE:FREQ=YEARLY;BYMONTH=10;BYDAY=-1SU
END:STANDARD
END:VTIMEZONE
BEGIN:VEVENT
UID:dba27bb9e5dbac25aec2a5fe2afd5d90
SUMMARY:Ensemble Vokalzirkel, Johannes X. Schachtne (Leitung) - aDevantgarde
URL:https://www.concerti.de/termine/ensemble-vokalzirkel-johannes-x-schachtne-leitung-895521/
DTSTART;TZID=Europe/Berlin:20260624T190000
DTEND;TZID=Europe/Berlin:20260624T210000
DESCRIPTION:Interpreten: Ensemble Vokalzirkel\, Johannes X. Schachtne (Leitung) \nProgramm: Werke von Berio\, Shaw\, Lehmann-(Horn) (UA)\, Kuhn (UA) & Schachtner (UA) \nhttps://www.concerti.de/termine/ensemble-vokalzirkel-johannes-x-schachtne-leitung-895521/
LOCATION:Bayerische Akademie der Schönen Künste\, München
END:VEVENT
END:VCALENDAR