BEGIN:VCALENDAR
VERSION:2.0
PRODID:concerti//https://www.concerti.de
CALSCALE:GREGORIAN
BEGIN:VTIMEZONE
TZID:Europe/Berlin
X-LIC-LOCATION:Europe/Berlin
BEGIN:DAYLIGHT
TZOFFSETFROM:+0100
TZOFFSETTO:+0200
TZNAME:CEST
DTSTART:19700329T020000
RRULE:FREQ=YEARLY;BYMONTH=3;BYDAY=-1SU
END:DAYLIGHT
BEGIN:STANDARD
TZOFFSETFROM:+0200
TZOFFSETTO:+0100
TZNAME:CET
DTSTART:19701025T030000
RRULE:FREQ=YEARLY;BYMONTH=10;BYDAY=-1SU
END:STANDARD
END:VTIMEZONE
BEGIN:VEVENT
UID:596e025ee7f5fb6233fb364507a662e6
SUMMARY:Landesjugendensemble für Neue Musik Bayern, Johannes X. Schachtner (Leitung) - aDevantgarde
URL:https://www.concerti.de/termine/landesjugendensemble-fuer-neue-musik-bayern-johannes-x-schachtner-leitung-schwere-reiter-895530/
DTSTART;TZID=Europe/Berlin:20260628T180000
DTEND;TZID=Europe/Berlin:20260628T200000
DESCRIPTION:Interpreten: Landesjugendensemble für Neue Musik Bayern\, Johannes X. Schachtner (Leitung) \nProgramm: Werke von Boulez\, Kreppein\, Mason\, Rihm & Schmitt \nhttps://www.concerti.de/termine/landesjugendensemble-fuer-neue-musik-bayern-johannes-x-schachtner-leitung-schwere-reiter-895530/
LOCATION:Schwere Reiter\, Dachauer Straße 114\, 80636 München
END:VEVENT
END:VCALENDAR