BEGIN:VCALENDAR
VERSION:2.0
PRODID:concerti//https://www.concerti.de
CALSCALE:GREGORIAN
BEGIN:VTIMEZONE
TZID:Europe/Berlin
X-LIC-LOCATION:Europe/Berlin
BEGIN:DAYLIGHT
TZOFFSETFROM:+0100
TZOFFSETTO:+0200
TZNAME:CEST
DTSTART:19700329T020000
RRULE:FREQ=YEARLY;BYMONTH=3;BYDAY=-1SU
END:DAYLIGHT
BEGIN:STANDARD
TZOFFSETFROM:+0200
TZOFFSETTO:+0100
TZNAME:CET
DTSTART:19701025T030000
RRULE:FREQ=YEARLY;BYMONTH=10;BYDAY=-1SU
END:STANDARD
END:VTIMEZONE
BEGIN:VEVENT
UID:a9f05e8f4e05676de9fb3d3ae506e42c
SUMMARY:Salome Kammer (Gesang), Vincent Neeb (Klavier), Ensemble Jumblex, Johannes X. Schachtner (Leitung) - aDevantgarde
URL:https://www.concerti.de/termine/salome-kammer-gesang-vincent-neeb-klavier-ensemble-jumblex-johannes-x-schachtner-leitung-schwere-reiter-895533/
DTSTART;TZID=Europe/Berlin:20260629T110000
DTEND;TZID=Europe/Berlin:20260629T130000
DESCRIPTION:Interpreten: Salome Kammer (Gesang)\, Vincent Neeb (Klavier)\, Ensemble Jumblex\, Johannes X. Schachtner (Leitung) \nProgramm: Werke von Bertelsmeier\, Müller-Wieland\, Schulzki u. a. \nhttps://www.concerti.de/termine/salome-kammer-gesang-vincent-neeb-klavier-ensemble-jumblex-johannes-x-schachtner-leitung-schwere-reiter-895533/
LOCATION:Schwere Reiter\, Dachauer Straße 114\, 80636 München
END:VEVENT
END:VCALENDAR