BEGIN:VCALENDAR
VERSION:2.0
PRODID:concerti//https://www.concerti.de
CALSCALE:GREGORIAN
BEGIN:VTIMEZONE
TZID:Europe/Berlin
X-LIC-LOCATION:Europe/Berlin
BEGIN:DAYLIGHT
TZOFFSETFROM:+0100
TZOFFSETTO:+0200
TZNAME:CEST
DTSTART:19700329T020000
RRULE:FREQ=YEARLY;BYMONTH=3;BYDAY=-1SU
END:DAYLIGHT
BEGIN:STANDARD
TZOFFSETFROM:+0200
TZOFFSETTO:+0100
TZNAME:CET
DTSTART:19701025T030000
RRULE:FREQ=YEARLY;BYMONTH=10;BYDAY=-1SU
END:STANDARD
END:VTIMEZONE
BEGIN:VEVENT
UID:ee66705d4cde892ac57b020e006a6be5
SUMMARY:Kai Wangler (Akkordeon), Brigitte Helbig (Klavier) - aDevantgarde
URL:https://www.concerti.de/termine/kai-wangler-akkordeon-brigitte-helbig-klavier-schwere-reiter-895542/
DTSTART;TZID=Europe/Berlin:20260705T200000
DTEND;TZID=Europe/Berlin:20260705T220000
DESCRIPTION:Interpreten: Kai Wangler (Akkordeon)\, Brigitte Helbig (Klavier) \nProgramm: Werke von Harada\, Streich\, Ajax (UA)\, Brass (UA)\, Mayrhofer (UA) & Stillmark (UA) \nhttps://www.concerti.de/termine/kai-wangler-akkordeon-brigitte-helbig-klavier-schwere-reiter-895542/
LOCATION:Schwere Reiter\, Dachauer Straße 114\, 80636 München
END:VEVENT
END:VCALENDAR