BEGIN:VCALENDAR
VERSION:2.0
PRODID:concerti//https://www.concerti.de
CALSCALE:GREGORIAN
BEGIN:VTIMEZONE
TZID:Europe/Berlin
X-LIC-LOCATION:Europe/Berlin
BEGIN:DAYLIGHT
TZOFFSETFROM:+0100
TZOFFSETTO:+0200
TZNAME:CEST
DTSTART:19700329T020000
RRULE:FREQ=YEARLY;BYMONTH=3;BYDAY=-1SU
END:DAYLIGHT
BEGIN:STANDARD
TZOFFSETFROM:+0200
TZOFFSETTO:+0100
TZNAME:CET
DTSTART:19701025T030000
RRULE:FREQ=YEARLY;BYMONTH=10;BYDAY=-1SU
END:STANDARD
END:VTIMEZONE
BEGIN:VEVENT
UID:893b8df1f0728a750b87495d98f2b669
SUMMARY:Klėja &#038; Kaja Kašubaitė (Klavier)
URL:https://www.concerti.de/termine/kleja-kaja-kasubaite-klavier-895559/
DTSTART;TZID=Europe/Berlin:20260614T180000
DTEND;TZID=Europe/Berlin:20260614T200000
DESCRIPTION:Interpreten: Klėja & Kaja Kašubaitė (Klavier) \nProgramm: Werke von Debussy\, Chopin\, Saint‑Saëns\, Chaminade\, Ravel & Liszt \nhttps://www.concerti.de/termine/kleja-kaja-kasubaite-klavier-895559/
LOCATION:Centre Bagatelle\, Berlin
END:VEVENT
END:VCALENDAR