BEGIN:VCALENDAR
VERSION:2.0
PRODID:concerti//https://www.concerti.de
CALSCALE:GREGORIAN
BEGIN:VTIMEZONE
TZID:Europe/Berlin
X-LIC-LOCATION:Europe/Berlin
BEGIN:DAYLIGHT
TZOFFSETFROM:+0100
TZOFFSETTO:+0200
TZNAME:CEST
DTSTART:19700329T020000
RRULE:FREQ=YEARLY;BYMONTH=3;BYDAY=-1SU
END:DAYLIGHT
BEGIN:STANDARD
TZOFFSETFROM:+0200
TZOFFSETTO:+0100
TZNAME:CET
DTSTART:19701025T030000
RRULE:FREQ=YEARLY;BYMONTH=10;BYDAY=-1SU
END:STANDARD
END:VTIMEZONE
BEGIN:VEVENT
UID:b17061cfb7dc932117f858cb15311a5a
SUMMARY:La Capella Ducale, Musica Fiata, Roland Wilson (Leitung)
URL:https://www.concerti.de/termine/la-capella-ducale-musica-fiata-roland-wilson-leitung-st-elisabeth-kirche-895597/
DTSTART;TZID=Europe/Berlin:20260626T190000
DTEND;TZID=Europe/Berlin:20260626T210000
DESCRIPTION:Interpreten: La Capella Ducale\, Musica Fiata\, Roland Wilson (Leitung) \nProgramm: Monteverdi: Marienvesper 1650 (posthum) \nhttps://www.concerti.de/termine/la-capella-ducale-musica-fiata-roland-wilson-leitung-st-elisabeth-kirche-895597/
LOCATION:St. Elisabeth-Kirche Berlin\, Invalidenstraße 3\, 10115 Berlin
END:VEVENT
END:VCALENDAR